BEGIN:VCALENDAR
VERSION:2.0
PRODID:-//104.18.65.2//NONSGML kigkonsult.se iCalcreator 2.26.9//
CALSCALE:GREGORIAN
METHOD:PUBLISH
X-WR-CALNAME:Census
X-WR-CALDESC:Department of Business\, Economic Development &amp\; Tourism
X-FROM-URL:http://census.hawaii.gov
X-WR-TIMEZONE:Pacific/Honolulu
BEGIN:VTIMEZONE
TZID:Pacific/Honolulu
X-LIC-LOCATION:Pacific/Honolulu
BEGIN:STANDARD
DTSTART:19470608T020000
TZOFFSETFROM:-1030
TZOFFSETTO:-1000
TZNAME:HST
END:STANDARD
END:VTIMEZONE
BEGIN:VEVENT
UID:ai1ec-7842@census.hawaii.gov
DTSTAMP:20210515T083152Z
CATEGORIES;LANGUAGE=en-US:HGCCC Meeting
CONTACT:
DESCRIPTION:
DTSTART;TZID=Pacific/Honolulu:20200317T100000
DTEND;TZID=Pacific/Honolulu:20200317T113000
SEQUENCE:0
SUMMARY:HGCCC Meeting
URL:http://census.hawaii.gov/event/hgccc-meeting-9/
X-COST-TYPE:free
END:VEVENT
END:VCALENDAR
