BEGIN:VCALENDAR
VERSION:2.0
PRODID:-//104.18.64.2//NONSGML kigkonsult.se iCalcreator 2.26.9//
CALSCALE:GREGORIAN
METHOD:PUBLISH
X-FROM-URL:http://census.hawaii.gov
X-WR-TIMEZONE:Pacific/Honolulu
BEGIN:VTIMEZONE
TZID:Pacific/Honolulu
X-LIC-LOCATION:Pacific/Honolulu
BEGIN:STANDARD
DTSTART:19470608T020000
TZOFFSETFROM:-1030
TZOFFSETTO:-1000
TZNAME:HST
END:STANDARD
END:VTIMEZONE
BEGIN:VEVENT
UID:ai1ec-7286@census.hawaii.gov
DTSTAMP:20210912T170347Z
CATEGORIES:
CONTACT:
DESCRIPTION:
DTSTART;VALUE=DATE:20190713
DTEND;VALUE=DATE:20190715
LOCATION:Kualoa Ranch @ 49-560 Kamehameha Hwy\, Kaneohe\, HI 96744
SEQUENCE:0
SUMMARY:HGCCC at the 57th Annual Hawaii Farm Fair
URL:http://census.hawaii.gov/event/hgccc-at-the-57th-annual-hawaii-farm-fai
 r/
X-COST-TYPE:free
END:VEVENT
BEGIN:VEVENT
UID:ai1ec-7095@census.hawaii.gov
DTSTAMP:20210912T170347Z
CATEGORIES:
CONTACT:
DESCRIPTION:
DTSTART;VALUE=DATE:20200401
DTEND;VALUE=DATE:20200402
SEQUENCE:0
SUMMARY:2020 Census Day
URL:http://census.hawaii.gov/event/2020-census-day/
X-COST-TYPE:free
END:VEVENT
BEGIN:VEVENT
UID:ai1ec-7081@census.hawaii.gov
DTSTAMP:20210912T170347Z
CATEGORIES:
CONTACT:
DESCRIPTION:
DTSTART;TZID=Pacific/Honolulu:20190401T100000
DTEND;TZID=Pacific/Honolulu:20190401T113000
LOCATION:No. 1 Capitol District Building\, Room 436 @ 250 South Hotel Stree
 t\, Honolulu\, Hawaii 96813
SEQUENCE:0
SUMMARY:HGCCC Kickoff Meeting
URL:http://census.hawaii.gov/event/hgccc-kickoff-meeting/
X-COST-TYPE:free
END:VEVENT
BEGIN:VEVENT
UID:ai1ec-7085@census.hawaii.gov
DTSTAMP:20210912T170347Z
CATEGORIES:
CONTACT:
DESCRIPTION:
DTSTART;TZID=Pacific/Honolulu:20190514T100000
DTEND;TZID=Pacific/Honolulu:20190514T113000
SEQUENCE:0
SUMMARY:HGCCC Meeting
URL:http://census.hawaii.gov/event/hgccc-meeting/
X-COST-TYPE:free
END:VEVENT
BEGIN:VEVENT
UID:ai1ec-7086@census.hawaii.gov
DTSTAMP:20210912T170347Z
CATEGORIES:
CONTACT:
DESCRIPTION:
DTSTART;TZID=Pacific/Honolulu:20190618T100000
DTEND;TZID=Pacific/Honolulu:20190618T113000
SEQUENCE:0
SUMMARY:HGCCC Meeting
URL:http://census.hawaii.gov/event/hgccc-meeting-2/
X-COST-TYPE:free
END:VEVENT
BEGIN:VEVENT
UID:ai1ec-7087@census.hawaii.gov
DTSTAMP:20210912T170347Z
CATEGORIES:
CONTACT:
DESCRIPTION:
DTSTART;TZID=Pacific/Honolulu:20190716T100000
DTEND;TZID=Pacific/Honolulu:20190716T113000
SEQUENCE:0
SUMMARY:HGCCC Meeting
URL:http://census.hawaii.gov/event/hgccc-meeting-3/
X-COST-TYPE:free
END:VEVENT
BEGIN:VEVENT
UID:ai1ec-7088@census.hawaii.gov
DTSTAMP:20210912T170347Z
CATEGORIES:
CONTACT:
DESCRIPTION:
DTSTART;TZID=Pacific/Honolulu:20190820T100000
DTEND;TZID=Pacific/Honolulu:20190820T113000
SEQUENCE:0
SUMMARY:HGCCC Meeting
URL:http://census.hawaii.gov/event/hgccc-meeting-4/
X-COST-TYPE:free
END:VEVENT
BEGIN:VEVENT
UID:ai1ec-7377@census.hawaii.gov
DTSTAMP:20210912T170347Z
CATEGORIES:
CONTACT:
DESCRIPTION:
DTSTART;TZID=Pacific/Honolulu:20190831T090000
DTEND;TZID=Pacific/Honolulu:20190901T160000
LOCATION:Hawaii Convention Center @ 1801 Kalakaua Ave.\, Honolulu\, HI
SEQUENCE:0
SUMMARY:Census Bureau at Okinawan Festival
URL:http://census.hawaii.gov/event/census-bureau-at-okinawan-festival/
X-COST-TYPE:free
END:VEVENT
BEGIN:VEVENT
UID:ai1ec-7089@census.hawaii.gov
DTSTAMP:20210912T170347Z
CATEGORIES:
CONTACT:
DESCRIPTION:
DTSTART;TZID=Pacific/Honolulu:20190917T100000
DTEND;TZID=Pacific/Honolulu:20190917T113000
SEQUENCE:0
SUMMARY:HGCCC Meeting
URL:http://census.hawaii.gov/event/hgccc-meeting-5/
X-COST-TYPE:free
END:VEVENT
BEGIN:VEVENT
UID:ai1ec-7378@census.hawaii.gov
DTSTAMP:20210912T170347Z
CATEGORIES:
CONTACT:
DESCRIPTION:
DTSTART;TZID=Pacific/Honolulu:20190921T070000
DTEND;TZID=Pacific/Honolulu:20190925T160000
LOCATION:Hawaii Convention Center @ 1801 Kalakaua Ave Honolulu\, Hawaii 968
 15
SEQUENCE:0
SUMMARY:Census Bureau and State Data Center at CNHA Convention
URL:http://census.hawaii.gov/event/census-bureau-and-state-data-center-at-c
 nha-convention/
X-COST-TYPE:free
END:VEVENT
BEGIN:VEVENT
UID:ai1ec-7379@census.hawaii.gov
DTSTAMP:20210912T170347Z
CATEGORIES:
CONTACT:
DESCRIPTION:
DTSTART;TZID=Pacific/Honolulu:20191006T100000
DTEND;TZID=Pacific/Honolulu:20191006T150000
LOCATION:State Capitol @ 415 S Beretania St\, Honolulu\, HI 96813
SEQUENCE:0
SUMMARY:Census Bureau at Children & Youth Day
URL:http://census.hawaii.gov/event/census-bureau-at-children-youth-day/
X-COST-TYPE:free
END:VEVENT
BEGIN:VEVENT
UID:ai1ec-7090@census.hawaii.gov
DTSTAMP:20210912T170347Z
CATEGORIES:
CONTACT:
DESCRIPTION:
DTSTART;TZID=Pacific/Honolulu:20191015T100000
DTEND;TZID=Pacific/Honolulu:20191015T113000
SEQUENCE:0
SUMMARY:HGCCC Meeting
URL:http://census.hawaii.gov/event/hgccc-meeting-6/
X-COST-TYPE:free
END:VEVENT
BEGIN:VEVENT
UID:ai1ec-7380@census.hawaii.gov
DTSTAMP:20210912T170347Z
CATEGORIES:
CONTACT:
DESCRIPTION:
DTSTART;TZID=Pacific/Honolulu:20191018T080000
DTEND;TZID=Pacific/Honolulu:20191018T170000
LOCATION:Hawaii Convention Center @ 1801 Kalakaua Avenue\, Honolulu\, HI 96
 822
SEQUENCE:0
SUMMARY:Census Bureau at HiAEYC Conference
URL:http://census.hawaii.gov/event/census-bureau-at-hiaeyc-conference/
X-COST-TYPE:free
END:VEVENT
BEGIN:VEVENT
UID:ai1ec-7381@census.hawaii.gov
DTSTAMP:20210912T170347Z
CATEGORIES:
CONTACT:
DESCRIPTION:
DTSTART;TZID=Pacific/Honolulu:20191019T113000
DTEND;TZID=Pacific/Honolulu:20191019T180000
LOCATION:Waikiki Shell @ 2805 Monsarrat Ave\, Honolulu\, HI 96815
SEQUENCE:0
SUMMARY:Census Bureau at Honolulu Pride
URL:http://census.hawaii.gov/event/census-bureau-at-honolulu-pride/
X-COST-TYPE:free
END:VEVENT
BEGIN:VEVENT
UID:ai1ec-7091@census.hawaii.gov
DTSTAMP:20210912T170347Z
CATEGORIES:
CONTACT:
DESCRIPTION:
DTSTART;TZID=Pacific/Honolulu:20191119T100000
DTEND;TZID=Pacific/Honolulu:20191119T113000
SEQUENCE:0
SUMMARY:HGCCC Meeting
URL:http://census.hawaii.gov/event/hgccc-meeting-7/
X-COST-TYPE:free
END:VEVENT
BEGIN:VEVENT
UID:ai1ec-7841@census.hawaii.gov
DTSTAMP:20210912T170347Z
CATEGORIES:
CONTACT:
DESCRIPTION:
DTSTART;TZID=Pacific/Honolulu:20191217T100000
DTEND;TZID=Pacific/Honolulu:20191217T113000
SEQUENCE:0
SUMMARY:HGCCC Meeting
URL:http://census.hawaii.gov/event/hgccc-meeting-8-2/
X-COST-TYPE:free
END:VEVENT
BEGIN:VEVENT
UID:ai1ec-7092@census.hawaii.gov
DTSTAMP:20210912T170347Z
CATEGORIES:
CONTACT:
DESCRIPTION:
DTSTART;TZID=Pacific/Honolulu:20200218T100000
DTEND;TZID=Pacific/Honolulu:20200218T113000
SEQUENCE:0
SUMMARY:HGCCC Meeting
URL:http://census.hawaii.gov/event/hgccc-meeting-8/
X-COST-TYPE:free
END:VEVENT
BEGIN:VEVENT
UID:ai1ec-7842@census.hawaii.gov
DTSTAMP:20210912T170347Z
CATEGORIES;LANGUAGE=en-US:HGCCC Meeting
CONTACT:
DESCRIPTION:
DTSTART;TZID=Pacific/Honolulu:20200317T100000
DTEND;TZID=Pacific/Honolulu:20200317T113000
SEQUENCE:0
SUMMARY:HGCCC Meeting
URL:http://census.hawaii.gov/event/hgccc-meeting-9/
X-COST-TYPE:free
END:VEVENT
BEGIN:VEVENT
UID:ai1ec-7843@census.hawaii.gov
DTSTAMP:20210912T170347Z
CATEGORIES;LANGUAGE=en-US:HGCCC Meeting
CONTACT:
DESCRIPTION:
DTSTART;TZID=Pacific/Honolulu:20200421T100000
DTEND;TZID=Pacific/Honolulu:20200421T113000
SEQUENCE:0
SUMMARY:HGCCC Meeting
URL:http://census.hawaii.gov/event/hgccc-meeting-10/
X-COST-TYPE:free
END:VEVENT
END:VCALENDAR
